BEGIN:VCALENDAR
VERSION:2.0
PRODID:spatie/icalendar-generator
DESCRIPTION:Events from City of Gallipolis Ohio
X-WR-CALDESC:Events from City of Gallipolis Ohio
REFRESH-INTERVAL;VALUE=DURATION:PT1440M
X-PUBLISHED-TTL:PT1440M
BEGIN:VTIMEZONE
TZID:Etc/GMT+0
BEGIN:STANDARD
DTSTART:20250805T090000Z
TZOFFSETFROM:+0000
TZOFFSETTO:+0000
END:STANDARD
END:VTIMEZONE
BEGIN:VTIMEZONE
TZID:UTC
BEGIN:STANDARD
DTSTART:20250728T102804Z
TZOFFSETFROM:+0000
TZOFFSETTO:+0000
END:STANDARD
END:VTIMEZONE
BEGIN:VEVENT
UID:234-202
DTSTAMP:20260424T102804Z
SUMMARY:Gallipolis in Bloom Planting Day &amp;amp\; Plant Exchange
LOCATION:
ORGANIZER;CN=Contributor User:MAILTO:mike@tryallcom.com
DTSTART;TZID=Etc/GMT+0:20260502T090000
DTEND;TZID=Etc/GMT+0:20260502T130000
X-ALT-DESC;FMTTYPE=TEXT/HTML:
CATEGORIES:General
URL;VALUE=URI:https://cityofgallipolis.com/mc-events/gallipolis-in-bloom-pl
 anting-day-plant-exchange/
METHOD:PUBLISH
END:VEVENT
END:VCALENDAR